BEGIN:VCALENDAR
VERSION:2.0
PRODID:-//Deeper Life Bible Church, North-East &amp; Cumbria Region - ECPv6.15.20//NONSGML v1.0//EN
CALSCALE:GREGORIAN
METHOD:PUBLISH
X-WR-CALNAME:Deeper Life Bible Church, North-East &amp; Cumbria Region
X-ORIGINAL-URL:https://dlbcnec.org.uk
X-WR-CALDESC:Events for Deeper Life Bible Church, North-East &amp; Cumbria Region
REFRESH-INTERVAL;VALUE=DURATION:PT1H
X-Robots-Tag:noindex
X-PUBLISHED-TTL:PT1H
BEGIN:VTIMEZONE
TZID:Europe/London
BEGIN:DAYLIGHT
TZOFFSETFROM:+0000
TZOFFSETTO:+0100
TZNAME:BST
DTSTART:20230326T010000
END:DAYLIGHT
BEGIN:STANDARD
TZOFFSETFROM:+0100
TZOFFSETTO:+0000
TZNAME:GMT
DTSTART:20231029T010000
END:STANDARD
BEGIN:DAYLIGHT
TZOFFSETFROM:+0000
TZOFFSETTO:+0100
TZNAME:BST
DTSTART:20240331T010000
END:DAYLIGHT
BEGIN:STANDARD
TZOFFSETFROM:+0100
TZOFFSETTO:+0000
TZNAME:GMT
DTSTART:20241027T010000
END:STANDARD
BEGIN:DAYLIGHT
TZOFFSETFROM:+0000
TZOFFSETTO:+0100
TZNAME:BST
DTSTART:20250330T010000
END:DAYLIGHT
BEGIN:STANDARD
TZOFFSETFROM:+0100
TZOFFSETTO:+0000
TZNAME:GMT
DTSTART:20251026T010000
END:STANDARD
BEGIN:DAYLIGHT
TZOFFSETFROM:+0000
TZOFFSETTO:+0100
TZNAME:BST
DTSTART:20260329T010000
END:DAYLIGHT
BEGIN:STANDARD
TZOFFSETFROM:+0100
TZOFFSETTO:+0000
TZNAME:GMT
DTSTART:20261025T010000
END:STANDARD
END:VTIMEZONE
BEGIN:VEVENT
DTSTART;TZID=Europe/London:20250224T080000
DTEND;TZID=Europe/London:20250228T170000
DTSTAMP:20260423T231813
CREATED:20250111T133713Z
LAST-MODIFIED:20250111T133748Z
UID:1015-1740384000-1740762000@dlbcnec.org.uk
SUMMARY:Strategy Congress (Regional Hub)
DESCRIPTION:
URL:https://dlbcnec.org.uk/event/strategy-congress-regional-hub-2025/
LOCATION:Deeper Life Bible Church\, Newcastle\, ST Philips' Close\, Newcastle upon Tyne\, NE4 5JE\, United Kingdom
END:VEVENT
BEGIN:VEVENT
DTSTART;TZID=Europe/London:20250209T100000
DTEND;TZID=Europe/London:20250209T133000
DTSTAMP:20260423T231813
CREATED:20250111T133552Z
LAST-MODIFIED:20250111T134532Z
UID:1013-1739095200-1739107800@dlbcnec.org.uk
SUMMARY:Young Adult Sunday February 2025
DESCRIPTION:
URL:https://dlbcnec.org.uk/event/young-adult-sunday-feb-2025/
LOCATION:Deeper Life Bible Church\, Newcastle\, ST Philips' Close\, Newcastle upon Tyne\, NE4 5JE\, United Kingdom
ORGANIZER;CN="DLBC NEWCASTLE":MAILTO:contact@ dlbcnec.org.uk
END:VEVENT
BEGIN:VEVENT
DTSTART;TZID=Europe/London:20250208T100000
DTEND;TZID=Europe/London:20250208T150000
DTSTAMP:20260423T231813
CREATED:20250111T133444Z
LAST-MODIFIED:20250111T133444Z
UID:1011-1739008800-1739026800@dlbcnec.org.uk
SUMMARY:Entrepreneurship Workshop and Leadership Capacity Development
DESCRIPTION:
URL:https://dlbcnec.org.uk/event/entrepreneurship-workshop-and-leadership-capacity-development/
LOCATION:Deeper Life Bible Church\, Newcastle\, ST Philips' Close\, Newcastle upon Tyne\, NE4 5JE\, United Kingdom
END:VEVENT
BEGIN:VEVENT
DTSTART;TZID=Europe/London:20250201T090000
DTEND;TZID=Europe/London:20250201T170000
DTSTAMP:20260423T231813
CREATED:20250111T133332Z
LAST-MODIFIED:20250111T133332Z
UID:1008-1738400400-1738429200@dlbcnec.org.uk
SUMMARY:Wedding: Sis Kamar and Bro Gbenga
DESCRIPTION:
URL:https://dlbcnec.org.uk/event/wedding-sis-kamar-and-bro-gbenga/
LOCATION:Deeper Life Bible Church\, Newcastle\, ST Philips' Close\, Newcastle upon Tyne\, NE4 5JE\, United Kingdom
END:VEVENT
BEGIN:VEVENT
DTSTART;TZID=Europe/London:20250201T060000
DTEND;TZID=Europe/London:20250201T080000
DTSTAMP:20260423T231813
CREATED:20250126T153856Z
LAST-MODIFIED:20250126T153856Z
UID:1078-1738389600-1738396800@dlbcnec.org.uk
SUMMARY:Covenant Breakthrough Prayer
DESCRIPTION:
URL:https://dlbcnec.org.uk/event/covenant-breakthrough-prayer/
LOCATION:Virtual Meeting\, Zoom Platform\, United Kingdom
END:VEVENT
BEGIN:VEVENT
DTSTART;TZID=Europe/London:20250118T100000
DTEND;TZID=Europe/London:20250118T140000
DTSTAMP:20260423T231813
CREATED:20250111T133109Z
LAST-MODIFIED:20250111T133140Z
UID:1005-1737194400-1737208800@dlbcnec.org.uk
SUMMARY:National Parents' Forum
DESCRIPTION:
URL:https://dlbcnec.org.uk/event/national-parent-forum/
LOCATION:Virtual Meeting\, Zoom Platform\, United Kingdom
END:VEVENT
BEGIN:VEVENT
DTSTART;TZID=Europe/London:20250111T080000
DTEND;TZID=Europe/London:20250111T170000
DTSTAMP:20260423T231813
CREATED:20250111T132756Z
LAST-MODIFIED:20250111T132756Z
UID:1001-1736582400-1736614800@dlbcnec.org.uk
SUMMARY:Regional Workers Planning & Leadership Capacity Development
DESCRIPTION:
URL:https://dlbcnec.org.uk/event/regional-workers-planning-leadership-capacity-development/
LOCATION:Deeper Life Bible Church\, Newcastle\, ST Philips' Close\, Newcastle upon Tyne\, NE4 5JE\, United Kingdom
END:VEVENT
BEGIN:VEVENT
DTSTART;TZID=Europe/London:20241214T110000
DTEND;TZID=Europe/London:20241214T170000
DTSTAMP:20260423T231813
CREATED:20240213T211608Z
LAST-MODIFIED:20240213T211608Z
UID:855-1734174000-1734195600@dlbcnec.org.uk
SUMMARY:Regional Workers Retreat Planning Meeting
DESCRIPTION:
URL:https://dlbcnec.org.uk/event/regional-workers-retreat-planning-meeting-2/
LOCATION:Deeper Life Bible Church\, Newcastle\, ST Philips' Close\, Newcastle upon Tyne\, NE4 5JE\, United Kingdom
ORGANIZER;CN="DLBC NEWCASTLE":MAILTO:contact@ dlbcnec.org.uk
END:VEVENT
BEGIN:VEVENT
DTSTART;TZID=Europe/London:20241214T090000
DTEND;TZID=Europe/London:20241214T100000
DTSTAMP:20260423T231813
CREATED:20240213T211515Z
LAST-MODIFIED:20240213T211515Z
UID:852-1734166800-1734170400@dlbcnec.org.uk
SUMMARY:National Day of Prayer
DESCRIPTION:
URL:https://dlbcnec.org.uk/event/national-day-of-prayer-6/
LOCATION:National Zoom Platform
END:VEVENT
BEGIN:VEVENT
DTSTART;TZID=Europe/London:20241208T093000
DTEND;TZID=Europe/London:20241208T133000
DTSTAMP:20260423T231813
CREATED:20240213T211400Z
LAST-MODIFIED:20240213T211400Z
UID:850-1733650200-1733664600@dlbcnec.org.uk
SUMMARY:Worship & End of Year Thanksgiving Service
DESCRIPTION:
URL:https://dlbcnec.org.uk/event/worship-end-of-year-thanksgiving-service/
LOCATION:Deeper Life Bible Church\, Newcastle\, ST Philips' Close\, Newcastle upon Tyne\, NE4 5JE\, United Kingdom
ORGANIZER;CN="DLBC NEWCASTLE":MAILTO:contact@ dlbcnec.org.uk
END:VEVENT
BEGIN:VEVENT
DTSTART;VALUE=DATE:20241202
DTEND;VALUE=DATE:20241208
DTSTAMP:20260423T231813
CREATED:20240213T211224Z
LAST-MODIFIED:20240213T211249Z
UID:848-1733097600-1733615999@dlbcnec.org.uk
SUMMARY:End of Year Prayers & Fasting
DESCRIPTION:
URL:https://dlbcnec.org.uk/event/end-of-year-prayers-fasting/
LOCATION:Virtual Meeting\, Zoom Platform\, United Kingdom
ORGANIZER;CN="DLBC NEWCASTLE":MAILTO:contact@ dlbcnec.org.uk
END:VEVENT
BEGIN:VEVENT
DTSTART;TZID=Europe/London:20241130T100000
DTEND;TZID=Europe/London:20241130T170000
DTSTAMP:20260423T231813
CREATED:20240213T211051Z
LAST-MODIFIED:20240213T211051Z
UID:846-1732960800-1732986000@dlbcnec.org.uk
SUMMARY:Regional Workers Retreat Planning Meeting
DESCRIPTION:
URL:https://dlbcnec.org.uk/event/regional-workers-retreat-planning-meeting/
LOCATION:Deeper Life Bible Church\, Newcastle\, ST Philips' Close\, Newcastle upon Tyne\, NE4 5JE\, United Kingdom
ORGANIZER;CN="DLBC NEWCASTLE":MAILTO:contact@ dlbcnec.org.uk
END:VEVENT
BEGIN:VEVENT
DTSTART;TZID=Europe/London:20241117T093000
DTEND;TZID=Europe/London:20241117T133000
DTSTAMP:20260423T231813
CREATED:20240213T210947Z
LAST-MODIFIED:20240213T210947Z
UID:842-1731835800-1731850200@dlbcnec.org.uk
SUMMARY:Young Adult Sunday
DESCRIPTION:
URL:https://dlbcnec.org.uk/event/young-adult-sunday-3/
LOCATION:Deeper Life Bible Church\, Newcastle\, ST Philips' Close\, Newcastle upon Tyne\, NE4 5JE\, United Kingdom
END:VEVENT
BEGIN:VEVENT
DTSTART;TZID=Europe/London:20241116T090000
DTEND;TZID=Europe/London:20241116T100000
DTSTAMP:20260423T231813
CREATED:20240213T210529Z
LAST-MODIFIED:20240213T211819Z
UID:839-1731747600-1731751200@dlbcnec.org.uk
SUMMARY:National Day of Prayer
DESCRIPTION:
URL:https://dlbcnec.org.uk/event/national-day-of-prayer-5/
LOCATION:National Zoom Platform
END:VEVENT
BEGIN:VEVENT
DTSTART;VALUE=DATE:20241026
DTEND;VALUE=DATE:20241029
DTSTAMP:20260423T231813
CREATED:20240213T210323Z
LAST-MODIFIED:20240213T210323Z
UID:836-1729900800-1730159999@dlbcnec.org.uk
SUMMARY:National Youth Conference
DESCRIPTION:October half term \nAges: 11-18
URL:https://dlbcnec.org.uk/event/national-youth-conference/
LOCATION:TBC
END:VEVENT
BEGIN:VEVENT
DTSTART;TZID=Europe/London:20241019T100000
DTEND;TZID=Europe/London:20241019T100000
DTSTAMP:20260423T231813
CREATED:20240213T210115Z
LAST-MODIFIED:20240213T211949Z
UID:834-1729332000-1729332000@dlbcnec.org.uk
SUMMARY:National Women's Prayer Summit
DESCRIPTION:
URL:https://dlbcnec.org.uk/event/national-womens-prayer-summit/
LOCATION:National Zoom Platform
END:VEVENT
BEGIN:VEVENT
DTSTART;TZID=Europe/London:20241012T090000
DTEND;TZID=Europe/London:20241012T100000
DTSTAMP:20260423T231813
CREATED:20240213T210020Z
LAST-MODIFIED:20240213T211931Z
UID:832-1728723600-1728727200@dlbcnec.org.uk
SUMMARY:National Day of Prayer
DESCRIPTION:
URL:https://dlbcnec.org.uk/event/national-day-of-prayer-4/
LOCATION:National Zoom Platform
END:VEVENT
BEGIN:VEVENT
DTSTART;TZID=Europe/London:20241006T093000
DTEND;TZID=Europe/London:20241006T133000
DTSTAMP:20260423T231813
CREATED:20240213T205922Z
LAST-MODIFIED:20240213T205922Z
UID:829-1728207000-1728221400@dlbcnec.org.uk
SUMMARY:Youth Sunday
DESCRIPTION:
URL:https://dlbcnec.org.uk/event/youth-sunday-2/
LOCATION:Deeper Life Bible Church\, Newcastle\, ST Philips' Close\, Newcastle upon Tyne\, NE4 5JE\, United Kingdom
END:VEVENT
BEGIN:VEVENT
DTSTART;TZID=Europe/London:20240907T090000
DTEND;TZID=Europe/London:20240907T090000
DTSTAMP:20260423T231813
CREATED:20240213T205604Z
LAST-MODIFIED:20240213T211908Z
UID:820-1725699600-1725699600@dlbcnec.org.uk
SUMMARY:National Day of Prayer
DESCRIPTION:
URL:https://dlbcnec.org.uk/event/national-day-of-prayer-3/
LOCATION:National Zoom Platform
END:VEVENT
BEGIN:VEVENT
DTSTART;TZID=Europe/London:20240901T093000
DTEND;TZID=Europe/London:20240901T133000
DTSTAMP:20260423T231813
CREATED:20240213T205434Z
LAST-MODIFIED:20240213T205434Z
UID:818-1725183000-1725197400@dlbcnec.org.uk
SUMMARY:Super Sunday
DESCRIPTION:
URL:https://dlbcnec.org.uk/event/super-sunday/
LOCATION:Deeper Life Bible Church\, Newcastle\, ST Philips' Close\, Newcastle upon Tyne\, NE4 5JE\, United Kingdom
ORGANIZER;CN="DLBC NEWCASTLE":MAILTO:contact@ dlbcnec.org.uk
END:VEVENT
BEGIN:VEVENT
DTSTART;TZID=Europe/London:20240825T093000
DTEND;TZID=Europe/London:20240825T133000
DTSTAMP:20260423T231813
CREATED:20240213T205329Z
LAST-MODIFIED:20240213T205329Z
UID:815-1724578200-1724592600@dlbcnec.org.uk
SUMMARY:Young Adult Sunday
DESCRIPTION:
URL:https://dlbcnec.org.uk/event/young-adult-sunday-2/
LOCATION:Deeper Life Bible Church\, Newcastle\, ST Philips' Close\, Newcastle upon Tyne\, NE4 5JE\, United Kingdom
END:VEVENT
BEGIN:VEVENT
DTSTART;VALUE=DATE:20240805
DTEND;VALUE=DATE:20240811
DTSTAMP:20260423T231813
CREATED:20240213T205150Z
LAST-MODIFIED:20240213T205150Z
UID:811-1722816000-1723334399@dlbcnec.org.uk
SUMMARY:Lagos Strategy Congress
DESCRIPTION:
URL:https://dlbcnec.org.uk/event/lagos-strategy-congress/
LOCATION:Nigeria\, 2 – 10 Ayodele Oke-Owo Street\, Gbagada\, Lagos\, Lagos\, Nigeria
ORGANIZER;CN="DCLM":MAILTO:info@dclm.org
END:VEVENT
BEGIN:VEVENT
DTSTART;VALUE=DATE:20240801
DTEND;VALUE=DATE:20240805
DTSTAMP:20260423T231813
CREATED:20240213T204522Z
LAST-MODIFIED:20240213T210414Z
UID:808-1722470400-1722815999@dlbcnec.org.uk
SUMMARY:National Youth Conference
DESCRIPTION:
URL:https://dlbcnec.org.uk/event/youth-conference/
LOCATION:TBC
END:VEVENT
BEGIN:VEVENT
DTSTART;TZID=Europe/London:20240727T100000
DTEND;TZID=Europe/London:20240727T170000
DTSTAMP:20260423T231813
CREATED:20240213T204412Z
LAST-MODIFIED:20240213T210721Z
UID:805-1722074400-1722099600@dlbcnec.org.uk
SUMMARY:Summer Evangelistic Outreach - Middlesbrough
DESCRIPTION:
URL:https://dlbcnec.org.uk/event/summer-evangelistic-outreach-3/
LOCATION:Middlesbrough\, Middlesbrough\, United Kingdom
ORGANIZER;CN="DLBC NEWCASTLE":MAILTO:contact@ dlbcnec.org.uk
END:VEVENT
BEGIN:VEVENT
DTSTART;TZID=Europe/London:20240720T100000
DTEND;TZID=Europe/London:20240720T170000
DTSTAMP:20260423T231813
CREATED:20240213T204114Z
LAST-MODIFIED:20240213T210801Z
UID:802-1721469600-1721494800@dlbcnec.org.uk
SUMMARY:Summer Evangelistic Outreach - Sunderland
DESCRIPTION:
URL:https://dlbcnec.org.uk/event/summer-evangelistic-outreach-2/
LOCATION:Sunderland\, Sunderland\, United Kingdom
ORGANIZER;CN="DLBC NEWCASTLE":MAILTO:contact@ dlbcnec.org.uk
END:VEVENT
BEGIN:VEVENT
DTSTART;TZID=Europe/London:20240713T110000
DTEND;TZID=Europe/London:20240713T170000
DTSTAMP:20260423T231813
CREATED:20240213T203512Z
LAST-MODIFIED:20240213T210837Z
UID:800-1720868400-1720890000@dlbcnec.org.uk
SUMMARY:Summer Evangelistic Outreach - Newcastle
DESCRIPTION:
URL:https://dlbcnec.org.uk/event/summer-evangelistic-outreach/
LOCATION:Deeper Life Bible Church\, Newcastle\, ST Philips' Close\, Newcastle upon Tyne\, NE4 5JE\, United Kingdom
ORGANIZER;CN="DLBC NEWCASTLE":MAILTO:contact@ dlbcnec.org.uk
END:VEVENT
BEGIN:VEVENT
DTSTART;TZID=Europe/London:20240713T090000
DTEND;TZID=Europe/London:20240713T100000
DTSTAMP:20260423T231813
CREATED:20240213T203326Z
LAST-MODIFIED:20240213T203326Z
UID:798-1720861200-1720864800@dlbcnec.org.uk
SUMMARY:National Day of Prayer
DESCRIPTION:
URL:https://dlbcnec.org.uk/event/national-day-of-prayer-2/
LOCATION:National Zoom Platform
END:VEVENT
BEGIN:VEVENT
DTSTART;TZID=Europe/London:20240706T103000
DTEND;TZID=Europe/London:20240706T170000
DTSTAMP:20260423T231813
CREATED:20240213T203137Z
LAST-MODIFIED:20240213T204633Z
UID:796-1720261800-1720285200@dlbcnec.org.uk
SUMMARY:Singles Forum
DESCRIPTION:
URL:https://dlbcnec.org.uk/event/singles-forum-2/
LOCATION:Deeper Life Bible Church\, Newcastle\, ST Philips' Close\, Newcastle upon Tyne\, NE4 5JE\, United Kingdom
END:VEVENT
BEGIN:VEVENT
DTSTART;TZID=Europe/London:20240629T100000
DTEND;TZID=Europe/London:20240629T170000
DTSTAMP:20260423T231813
CREATED:20240210T000827Z
LAST-MODIFIED:20240210T000827Z
UID:789-1719655200-1719680400@dlbcnec.org.uk
SUMMARY:Summer Evangelistic Outreach - Carlisle
DESCRIPTION:
URL:https://dlbcnec.org.uk/event/summer-evangelistic-outreach-carlisle/
LOCATION:Carlisle\, CA1\, United Kingdom
ORGANIZER;CN="DLBC NEWCASTLE":MAILTO:contact@ dlbcnec.org.uk
END:VEVENT
BEGIN:VEVENT
DTSTART;VALUE=DATE:20240620
DTEND;VALUE=DATE:20240623
DTSTAMP:20260423T231813
CREATED:20240210T000559Z
LAST-MODIFIED:20240210T000559Z
UID:787-1718841600-1719100799@dlbcnec.org.uk
SUMMARY:National Singles Conference (Ageless)
DESCRIPTION:
URL:https://dlbcnec.org.uk/event/national-singles-conference-ageless/
END:VEVENT
END:VCALENDAR