BEGIN:VCALENDAR
VERSION:2.0
PRODID:-//Deeper Life Bible Church, North-East &amp; Cumbria Region - ECPv6.15.20//NONSGML v1.0//EN
CALSCALE:GREGORIAN
METHOD:PUBLISH
X-ORIGINAL-URL:https://dlbcnec.org.uk
X-WR-CALDESC:Events for Deeper Life Bible Church, North-East &amp; Cumbria Region
REFRESH-INTERVAL;VALUE=DURATION:PT1H
X-Robots-Tag:noindex
X-PUBLISHED-TTL:PT1H
BEGIN:VTIMEZONE
TZID:Europe/London
BEGIN:DAYLIGHT
TZOFFSETFROM:+0000
TZOFFSETTO:+0100
TZNAME:BST
DTSTART:20240331T010000
END:DAYLIGHT
BEGIN:STANDARD
TZOFFSETFROM:+0100
TZOFFSETTO:+0000
TZNAME:GMT
DTSTART:20241027T010000
END:STANDARD
BEGIN:DAYLIGHT
TZOFFSETFROM:+0000
TZOFFSETTO:+0100
TZNAME:BST
DTSTART:20250330T010000
END:DAYLIGHT
BEGIN:STANDARD
TZOFFSETFROM:+0100
TZOFFSETTO:+0000
TZNAME:GMT
DTSTART:20251026T010000
END:STANDARD
BEGIN:DAYLIGHT
TZOFFSETFROM:+0000
TZOFFSETTO:+0100
TZNAME:BST
DTSTART:20260329T010000
END:DAYLIGHT
BEGIN:STANDARD
TZOFFSETFROM:+0100
TZOFFSETTO:+0000
TZNAME:GMT
DTSTART:20261025T010000
END:STANDARD
BEGIN:DAYLIGHT
TZOFFSETFROM:+0000
TZOFFSETTO:+0100
TZNAME:BST
DTSTART:20270328T010000
END:DAYLIGHT
BEGIN:STANDARD
TZOFFSETFROM:+0100
TZOFFSETTO:+0000
TZNAME:GMT
DTSTART:20271031T010000
END:STANDARD
END:VTIMEZONE
BEGIN:VEVENT
DTSTART;TZID=Europe/London:20260207T060000
DTEND;TZID=Europe/London:20260207T200000
DTSTAMP:20260423T183723
CREATED:20260203T192312Z
LAST-MODIFIED:20260203T192312Z
UID:1239-1770444000-1770494400@dlbcnec.org.uk
SUMMARY:Turning Point
DESCRIPTION:
URL:https://dlbcnec.org.uk/event/turning-point-02-26/
LOCATION:Virtual Meeting\, Zoom Platform\, United Kingdom
END:VEVENT
BEGIN:VEVENT
DTSTART;TZID=Europe/London:20251206T080000
DTEND;TZID=Europe/London:20251206T170000
DTSTAMP:20260423T183723
CREATED:20250111T142457Z
LAST-MODIFIED:20250111T142457Z
UID:1075-1765008000-1765040400@dlbcnec.org.uk
SUMMARY:Musical Concert\, 2025
DESCRIPTION:
URL:https://dlbcnec.org.uk/event/musical-concert-2025/
LOCATION:TBC
END:VEVENT
BEGIN:VEVENT
DTSTART;TZID=Europe/London:20251116T080000
DTEND;TZID=Europe/London:20251116T170000
DTSTAMP:20260423T183723
CREATED:20250111T142352Z
LAST-MODIFIED:20250111T142352Z
UID:1073-1763280000-1763312400@dlbcnec.org.uk
SUMMARY:RO and Pastors planning Meeting -Middlesbrough
DESCRIPTION:
URL:https://dlbcnec.org.uk/event/ro-and-pastors-planning-meeting-middlesbrough/
LOCATION:Middlesbrough\, Middlesbrough\, United Kingdom
END:VEVENT
BEGIN:VEVENT
DTSTART;TZID=Europe/London:20251108T080000
DTEND;TZID=Europe/London:20251108T170000
DTSTAMP:20260423T183723
CREATED:20250111T142150Z
LAST-MODIFIED:20250111T142150Z
UID:1071-1762588800-1762621200@dlbcnec.org.uk
SUMMARY:Family Forum\, 2025
DESCRIPTION:
URL:https://dlbcnec.org.uk/event/family-forum-2025/
LOCATION:Deeper Life Bible Church\, Newcastle\, ST Philips' Close\, Newcastle upon Tyne\, NE4 5JE\, United Kingdom
END:VEVENT
BEGIN:VEVENT
DTSTART;TZID=Europe/London:20251031T080000
DTEND;TZID=Europe/London:20251103T170000
DTSTAMP:20260423T183723
CREATED:20250111T142117Z
LAST-MODIFIED:20250111T142117Z
UID:1069-1761897600-1762189200@dlbcnec.org.uk
SUMMARY:RO and Wives Planning Meeting
DESCRIPTION:
URL:https://dlbcnec.org.uk/event/ro-and-wives-planning-meeting/
LOCATION:TBC
END:VEVENT
BEGIN:VEVENT
DTSTART;TZID=Europe/London:20251018T080000
DTEND;TZID=Europe/London:20251018T170000
DTSTAMP:20260423T183723
CREATED:20250111T142009Z
LAST-MODIFIED:20250111T142009Z
UID:1067-1760774400-1760806800@dlbcnec.org.uk
SUMMARY:National Women Prayer Summit -virtual\, 2025
DESCRIPTION:
URL:https://dlbcnec.org.uk/event/national-women-prayer-summit-virtual-2025/
LOCATION:National Zoom Platform
END:VEVENT
BEGIN:VEVENT
DTSTART;TZID=Europe/London:20250920T080000
DTEND;TZID=Europe/London:20250920T170000
DTSTAMP:20260423T183723
CREATED:20250111T141932Z
LAST-MODIFIED:20250111T141932Z
UID:1065-1758355200-1758387600@dlbcnec.org.uk
SUMMARY:National Seasoned Men’s Conference\, 2025
DESCRIPTION:
URL:https://dlbcnec.org.uk/event/national-seasoned-mens-conference-2025/
LOCATION:TBC
END:VEVENT
BEGIN:VEVENT
DTSTART;TZID=Europe/London:20250914T080000
DTEND;TZID=Europe/London:20250914T170000
DTSTAMP:20260423T183723
CREATED:20250111T141853Z
LAST-MODIFIED:20250111T141853Z
UID:1063-1757836800-1757869200@dlbcnec.org.uk
SUMMARY:Orientation Service\, 2025
DESCRIPTION:
URL:https://dlbcnec.org.uk/event/orientation-service-2025/
LOCATION:Deeper Life Bible Church\, Newcastle\, ST Philips' Close\, Newcastle upon Tyne\, NE4 5JE\, United Kingdom
ORGANIZER;CN="DLBC NEWCASTLE":MAILTO:contact@ dlbcnec.org.uk
END:VEVENT
BEGIN:VEVENT
DTSTART;TZID=Europe/London:20250907T080000
DTEND;TZID=Europe/London:20250907T170000
DTSTAMP:20260423T183723
CREATED:20250111T141657Z
LAST-MODIFIED:20250111T141657Z
UID:1061-1757232000-1757264400@dlbcnec.org.uk
SUMMARY:Youth Sunday\, September 2025
DESCRIPTION:
URL:https://dlbcnec.org.uk/event/youth-sunday-september-2025/
LOCATION:Deeper Life Bible Church\, Newcastle\, ST Philips' Close\, Newcastle upon Tyne\, NE4 5JE\, United Kingdom
END:VEVENT
BEGIN:VEVENT
DTSTART;TZID=Europe/London:20250801T080000
DTEND;TZID=Europe/London:20250803T170000
DTSTAMP:20260423T183723
CREATED:20250111T141606Z
LAST-MODIFIED:20250111T141606Z
UID:1059-1754035200-1754240400@dlbcnec.org.uk
SUMMARY:Youth and Young Adult Conference (regional hub)\, 2025
DESCRIPTION:
URL:https://dlbcnec.org.uk/event/youth-and-young-adult-conference-regional-hub-2025/
LOCATION:TBC
END:VEVENT
BEGIN:VEVENT
DTSTART;TZID=Europe/London:20250719T080000
DTEND;TZID=Europe/London:20250719T170000
DTSTAMP:20260423T183723
CREATED:20250111T141527Z
LAST-MODIFIED:20250111T141527Z
UID:1057-1752912000-1752944400@dlbcnec.org.uk
SUMMARY:Regional Women’s Conference\, 2025
DESCRIPTION:
URL:https://dlbcnec.org.uk/event/regional-womens-conference-2025/
LOCATION:Deeper Life Bible Church\, Newcastle\, ST Philips' Close\, Newcastle upon Tyne\, NE4 5JE\, United Kingdom
END:VEVENT
BEGIN:VEVENT
DTSTART;TZID=Europe/London:20250712T100000
DTEND;TZID=Europe/London:20250712T170000
DTSTAMP:20260423T183723
CREATED:20250111T141426Z
LAST-MODIFIED:20250111T141426Z
UID:1053-1752314400-1752339600@dlbcnec.org.uk
SUMMARY:Young Adult Sunday\, July 2025
DESCRIPTION:
URL:https://dlbcnec.org.uk/event/young-adult-sunday-july-2025/
LOCATION:Deeper Life Bible Church\, Newcastle\, ST Philips' Close\, Newcastle upon Tyne\, NE4 5JE\, United Kingdom
END:VEVENT
BEGIN:VEVENT
DTSTART;TZID=Europe/London:20250711T080000
DTEND;TZID=Europe/London:20250712T170000
DTSTAMP:20260423T183723
CREATED:20250111T141459Z
LAST-MODIFIED:20250111T141459Z
UID:1055-1752220800-1752339600@dlbcnec.org.uk
SUMMARY:National Mature Singles Conference (residential)\, 2025
DESCRIPTION:
URL:https://dlbcnec.org.uk/event/national-mature-singles-conference-residential-2025/
LOCATION:TBC
END:VEVENT
BEGIN:VEVENT
DTSTART;TZID=Europe/London:20250705T090000
DTEND;TZID=Europe/London:20250705T170000
DTSTAMP:20260423T183723
CREATED:20250111T141352Z
LAST-MODIFIED:20250111T141352Z
UID:1051-1751706000-1751734800@dlbcnec.org.uk
SUMMARY:Regional Men’s Conference\, 2025
DESCRIPTION:
URL:https://dlbcnec.org.uk/event/regional-mens-conference-2025/
LOCATION:Deeper Life Bible Church\, Newcastle\, ST Philips' Close\, Newcastle upon Tyne\, NE4 5JE\, United Kingdom
END:VEVENT
BEGIN:VEVENT
DTSTART;TZID=Europe/London:20250622T080000
DTEND;TZID=Europe/London:20250622T170000
DTSTAMP:20260423T183723
CREATED:20250111T140216Z
LAST-MODIFIED:20250111T140216Z
UID:1049-1750579200-1750611600@dlbcnec.org.uk
SUMMARY:Super Sunday\, 2025
DESCRIPTION:
URL:https://dlbcnec.org.uk/event/super-sunday-2025/
LOCATION:Deeper Life Bible Church\, Newcastle\, ST Philips' Close\, Newcastle upon Tyne\, NE4 5JE\, United Kingdom
END:VEVENT
BEGIN:VEVENT
DTSTART;TZID=Europe/London:20250621T080000
DTEND;TZID=Europe/London:20250621T170000
DTSTAMP:20260423T183723
CREATED:20250111T140044Z
LAST-MODIFIED:20250111T140044Z
UID:1045-1750492800-1750525200@dlbcnec.org.uk
SUMMARY:National Singles Conference\, 2025 (self-funded)
DESCRIPTION:
URL:https://dlbcnec.org.uk/event/national-singles-conference-2025-self-funded/
LOCATION:TBC
END:VEVENT
BEGIN:VEVENT
DTSTART;VALUE=DATE:20250621
DTEND;VALUE=DATE:20250622
DTSTAMP:20260423T183723
CREATED:20250111T140117Z
LAST-MODIFIED:20250111T140117Z
UID:1047-1750464000-1750550399@dlbcnec.org.uk
SUMMARY:Appointment with God\, 2025
DESCRIPTION:
URL:https://dlbcnec.org.uk/event/appointment-with-god-2025/
LOCATION:Deeper Life Bible Church\, Newcastle\, ST Philips' Close\, Newcastle upon Tyne\, NE4 5JE\, United Kingdom
END:VEVENT
BEGIN:VEVENT
DTSTART;TZID=Europe/London:20250601T080000
DTEND;TZID=Europe/London:20250621T170000
DTSTAMP:20260423T183723
CREATED:20250111T135546Z
LAST-MODIFIED:20250111T135848Z
UID:1041-1748764800-1750525200@dlbcnec.org.uk
SUMMARY:Annual Prayer and Fasting 2025
DESCRIPTION:
URL:https://dlbcnec.org.uk/event/annual-prayer-and-fasting/
LOCATION:Deeper Life Bible Church\, Newcastle\, ST Philips' Close\, Newcastle upon Tyne\, NE4 5JE\, United Kingdom
END:VEVENT
BEGIN:VEVENT
DTSTART;TZID=Europe/London:20250528T080000
DTEND;TZID=Europe/London:20250531T170000
DTSTAMP:20260423T183723
CREATED:20250111T135410Z
LAST-MODIFIED:20250111T135410Z
UID:1039-1748419200-1748710800@dlbcnec.org.uk
SUMMARY:National Workers Meeting (residential)
DESCRIPTION:
URL:https://dlbcnec.org.uk/event/national-workers-meeting-residential/
LOCATION:TBC
END:VEVENT
BEGIN:VEVENT
DTSTART;TZID=Europe/London:20250516T180000
DTEND;TZID=Europe/London:20250517T170000
DTSTAMP:20260423T183723
CREATED:20250210T093018Z
LAST-MODIFIED:20250210T093018Z
UID:1081-1747418400-1747501200@dlbcnec.org.uk
SUMMARY:Couple's Rendezvous - Forever Yours: The Love Mandate
DESCRIPTION:
URL:https://dlbcnec.org.uk/event/couples-rendezvous-forever-yours-the-love-mandate/
LOCATION:Novotel Newcastle Airport\, Ponteland Rd\, Kenton\, Newcastle upon Tyne NE3 3HZ\, Novotel Newcastle Airport\, Newcastle upon Tyne\, NE3 3HZ\, United Kingdom
END:VEVENT
BEGIN:VEVENT
DTSTART;TZID=Europe/London:20250511T080000
DTEND;TZID=Europe/London:20250511T170000
DTSTAMP:20260423T183723
CREATED:20250111T135305Z
LAST-MODIFIED:20250111T135305Z
UID:1037-1746950400-1746982800@dlbcnec.org.uk
SUMMARY:Regional Breakthrough SUNDAY\, May 2025
DESCRIPTION:
URL:https://dlbcnec.org.uk/event/regional-breakthrough-sunday-may-2025/
LOCATION:Deeper Life Bible Church\, Newcastle\, ST Philips' Close\, Newcastle upon Tyne\, NE4 5JE\, United Kingdom
END:VEVENT
BEGIN:VEVENT
DTSTART;TZID=Europe/London:20250509T080000
DTEND;TZID=Europe/London:20250511T170000
DTSTAMP:20260423T183723
CREATED:20250111T135154Z
LAST-MODIFIED:20250111T135154Z
UID:1035-1746777600-1746982800@dlbcnec.org.uk
SUMMARY:National Prayers & Fasting Summit (10am- 6pm): Transformation House and Regional Hub
DESCRIPTION:
URL:https://dlbcnec.org.uk/event/national-prayers-fasting-summit-10am-6pm-transformation-house-and-regional-hub/
LOCATION:Deeper Life Bible Church\, Newcastle\, ST Philips' Close\, Newcastle upon Tyne\, NE4 5JE\, United Kingdom
END:VEVENT
BEGIN:VEVENT
DTSTART;VALUE=DATE:20250505
DTEND;VALUE=DATE:20250506
DTSTAMP:20260423T183723
CREATED:20250111T135043Z
LAST-MODIFIED:20250111T135043Z
UID:1033-1746403200-1746489599@dlbcnec.org.uk
SUMMARY:Children Day Out\, May 2025
DESCRIPTION:
URL:https://dlbcnec.org.uk/event/children-day-out-may-2025/
LOCATION:Deeper Life Bible Church\, Newcastle\, ST Philips' Close\, Newcastle upon Tyne\, NE4 5JE\, United Kingdom
END:VEVENT
BEGIN:VEVENT
DTSTART;TZID=Europe/London:20250504T100000
DTEND;TZID=Europe/London:20250504T170000
DTSTAMP:20260423T183723
CREATED:20250111T134931Z
LAST-MODIFIED:20250111T134931Z
UID:1030-1746352800-1746378000@dlbcnec.org.uk
SUMMARY:Children Sunday May 2025
DESCRIPTION:
URL:https://dlbcnec.org.uk/event/children-sunday-may-2025/
LOCATION:Deeper Life Bible Church\, Newcastle\, ST Philips' Close\, Newcastle upon Tyne\, NE4 5JE\, United Kingdom
END:VEVENT
BEGIN:VEVENT
DTSTART;TZID=Europe/London:20250503T100000
DTEND;TZID=Europe/London:20250503T170000
DTSTAMP:20260423T183723
CREATED:20250111T134855Z
LAST-MODIFIED:20250111T134855Z
UID:1028-1746266400-1746291600@dlbcnec.org.uk
SUMMARY:Leadership and Capacity Development Training May 2025
DESCRIPTION:
URL:https://dlbcnec.org.uk/event/leadership-and-capacity-development-training-may-2025/
LOCATION:Deeper Life Bible Church\, Newcastle\, ST Philips' Close\, Newcastle upon Tyne\, NE4 5JE\, United Kingdom
END:VEVENT
BEGIN:VEVENT
DTSTART;TZID=Europe/London:20250418T090000
DTEND;TZID=Europe/London:20250421T170000
DTSTAMP:20260423T183723
CREATED:20250111T134734Z
LAST-MODIFIED:20250111T134743Z
UID:1026-1744966800-1745254800@dlbcnec.org.uk
SUMMARY:Easter Retreat 2025
DESCRIPTION:
URL:https://dlbcnec.org.uk/event/easter-retreat-2025/
LOCATION:Deeper Life Bible Church\, Newcastle\, ST Philips' Close\, Newcastle upon Tyne\, NE4 5JE\, United Kingdom
END:VEVENT
BEGIN:VEVENT
DTSTART;TZID=Europe/London:20250405T100000
DTEND;TZID=Europe/London:20250405T170000
DTSTAMP:20260423T183723
CREATED:20250111T134633Z
LAST-MODIFIED:20250111T134633Z
UID:1024-1743847200-1743872400@dlbcnec.org.uk
SUMMARY:Retreat Planning and Leadership Capacity Development April 2025
DESCRIPTION:
URL:https://dlbcnec.org.uk/event/retreat-planning-and-leadership-capacity-development-april-2025/
LOCATION:Deeper Life Bible Church\, Newcastle\, ST Philips' Close\, Newcastle upon Tyne\, NE4 5JE\, United Kingdom
END:VEVENT
BEGIN:VEVENT
DTSTART;TZID=Europe/London:20250316T100000
DTEND;TZID=Europe/London:20250316T140000
DTSTAMP:20260423T183723
CREATED:20250111T134214Z
LAST-MODIFIED:20250111T134214Z
UID:1021-1742119200-1742133600@dlbcnec.org.uk
SUMMARY:Youth Sunday March 2025
DESCRIPTION:
URL:https://dlbcnec.org.uk/event/youth-sunday-march-2025/
LOCATION:Deeper Life Bible Church\, Newcastle\, ST Philips' Close\, Newcastle upon Tyne\, NE4 5JE\, United Kingdom
ORGANIZER;CN="DLBC NEWCASTLE":MAILTO:contact@ dlbcnec.org.uk
END:VEVENT
BEGIN:VEVENT
DTSTART;TZID=Europe/London:20250307T080000
DTEND;TZID=Europe/London:20250309T170000
DTSTAMP:20260423T183723
CREATED:20250111T134057Z
LAST-MODIFIED:20250111T134114Z
UID:1019-1741334400-1741539600@dlbcnec.org.uk
SUMMARY:ROs and Wives Retreat
DESCRIPTION:
URL:https://dlbcnec.org.uk/event/ros-and-wives-retreat-2025/
LOCATION:TBC
END:VEVENT
BEGIN:VEVENT
DTSTART;TZID=Europe/London:20250301T090000
DTEND;TZID=Europe/London:20250301T170000
DTSTAMP:20260423T183723
CREATED:20250111T133916Z
LAST-MODIFIED:20250111T133926Z
UID:1017-1740819600-1740848400@dlbcnec.org.uk
SUMMARY:Regional Singles Conference 2025 and Leadership Capacity Development
DESCRIPTION:
URL:https://dlbcnec.org.uk/event/regional-singles-conference-2025-and-leadership-capacity-development/
LOCATION:Deeper Life Bible Church\, Newcastle\, ST Philips' Close\, Newcastle upon Tyne\, NE4 5JE\, United Kingdom
END:VEVENT
END:VCALENDAR